BEGIN:VCALENDAR
CALSCALE:GREGORIAN
BEGIN:VEVENT
DTSTAMP:20250112T005121Z
DTSTART:20241016T010000Z
DTEND:20241016T030000Z
SUMMARY:Scented Candle Workshop@Mc Nears Saloon 
UID:081903d0-c18f-41c7-8ab4-a67ca0580304
LOCATION:23 Petaluma Blvd N\, Petaluma\, CA 94952\, USA
DESCRIPTION:Thank you for registering to our painting event! Your name is on our list\, so don't forget your name\, lol. (Remember to bring your ID if its a drinking establishment) \n\nWe're looking forward to seeing you there.\n\nHere are the details:\nHere are the details:\n\nScented Candle Workshop@Mc Nears Saloon \nOctober 15\, 2024\, 6:00 – 8:00 PM\nPetaluma\, 23 Petaluma Blvd N\, Petaluma\, CA 94952\, USA
X-ALT-DESC;FMTTYPE=text/html:Thank you for registering to our painting event! Your name is on our list\, so don't forget your name\, lol. (Remember to bring your ID if its a drinking establishment) \n\nWe're looking forward to seeing you there.\n\nHere are the details:\nHere are the details:<br>Scented Candle Workshop@Mc Nears Saloon \nOctober 15\, 2024\, 6:00 – 8:00 PM\nPetaluma\, 23 Petaluma Blvd N\, Petaluma\, CA 94952\, USA
END:VEVENT
END:VCALENDAR
