BEGIN:VCALENDAR
CALSCALE:GREGORIAN
BEGIN:VEVENT
DTSTAMP:20250112T004748Z
DTSTART:20231020T010000Z
DTEND:20231020T033000Z
SUMMARY:Paint Your Pet @ Tonti Family Wines
UID:0827af82-bfa4-40ac-8db8-55ac128e4811
LOCATION:9086 Windsor Rd\, Windsor\, CA 95492\, USA
DESCRIPTION:Thank you for registering to our painting event! Your name is on our list\, so don't forget your name\, lol. (Remember to bring your ID if its a drinking establishment) \n\nWe're looking forward to seeing you there.\n\nHere are the details:\nHere are the details:\n\nPaint Your Pet @ Tonti Family Wines\nOctober 19\, 2023\, 6:00 – 8:30 PM\nWindsor\, 9086 Windsor Rd\, Windsor\, CA 95492\, USA
X-ALT-DESC;FMTTYPE=text/html:Thank you for registering to our painting event! Your name is on our list\, so don't forget your name\, lol. (Remember to bring your ID if its a drinking establishment) \n\nWe're looking forward to seeing you there.\n\nHere are the details:\nHere are the details:<br>Paint Your Pet @ Tonti Family Wines\nOctober 19\, 2023\, 6:00 – 8:30 PM\nWindsor\, 9086 Windsor Rd\, Windsor\, CA 95492\, USA
END:VEVENT
END:VCALENDAR
