BEGIN:VCALENDAR
CALSCALE:GREGORIAN
BEGIN:VEVENT
DTSTAMP:20250112T005012Z
DTSTART:20230203T020000Z
DTEND:20230203T040000Z
SUMMARY:Living Wreath Event @Mi Pueblo 2/2/23
UID:08347a53-f2c0-4e3d-8bc4-6ab11338423d
LOCATION:7384 Commerce Blvd\, Cotati\, CA 94931\, USA
DESCRIPTION:Thank you for registering to our painting event! Your name is on our list\, so don't forget your name\, lol. (Remember to bring your ID if its a drinking establishment) \n\nWe're looking forward to seeing you there.\n\nHere are the details:\nHere are the details:\n\nLiving Wreath Event @Mi Pueblo 2/2/23\nFebruary 2\, 2023\, 6:00 – 8:00 PM\nMi Pueblo - Cotati\, 7384 Commerce Blvd\, Cotati\, CA 94931\, USA
X-ALT-DESC;FMTTYPE=text/html:Thank you for registering to our painting event! Your name is on our list\, so don't forget your name\, lol. (Remember to bring your ID if its a drinking establishment) \n\nWe're looking forward to seeing you there.\n\nHere are the details:\nHere are the details:<br>Living Wreath Event @Mi Pueblo 2/2/23\nFebruary 2\, 2023\, 6:00 – 8:00 PM\nMi Pueblo - Cotati\, 7384 Commerce Blvd\, Cotati\, CA 94931\, USA
END:VEVENT
END:VCALENDAR
