BEGIN:VCALENDAR
CALSCALE:GREGORIAN
BEGIN:VEVENT
DTSTAMP:20250112T004754Z
DTSTART:20240609T173022Z
DTEND:20240609T193022Z
SUMMARY:Kendel Jackson
UID:030b4465-fa5b-449b-b964-23fd03c38093
LOCATION:5007 Fulton Rd\, Santa Rosa\, CA 95403\, USA
DESCRIPTION:Thank you for registering to our painting event! Your name is on our list\, so don't forget your name\, lol. (Remember to bring your ID if its a drinking establishment) \n\nWe're looking forward to seeing you there.\n\nHere are the details:\nHere are the details:\n\nKendel Jackson\nJune 9\, 2024\, 10:30 AM – 12:30 PM\nKendel Jackson\, 5007 Fulton Rd\, Santa Rosa\, CA 95403\, USA
X-ALT-DESC;FMTTYPE=text/html:Thank you for registering to our painting event! Your name is on our list\, so don't forget your name\, lol. (Remember to bring your ID if its a drinking establishment) \n\nWe're looking forward to seeing you there.\n\nHere are the details:\nHere are the details:<br>Kendel Jackson\nJune 9\, 2024\, 10:30 AM – 12:30 PM\nKendel Jackson\, 5007 Fulton Rd\, Santa Rosa\, CA 95403\, USA
END:VEVENT
END:VCALENDAR
