BEGIN:VCALENDAR
CALSCALE:GREGORIAN
BEGIN:VEVENT
DTSTAMP:20250112T004826Z
DTSTART:20221128T010000Z
DTEND:20221128T030000Z
SUMMARY: Rainy Evening in SF Painting Event @Bear Republic
UID:03699d17-1842-4da8-86a2-5d7f5517cff6
LOCATION:5000 Roberts Lake Rd\, Rohnert Park\, CA 94928\, USA
DESCRIPTION:Thank you for registering to our painting event! Your name is on our list\, so don't forget your name\, lol. (Remember to bring your ID if its a drinking establishment) \n\nWe're looking forward to seeing you there.\n\nHere are the details:\nHere are the details:\n\nRainy Evening in SF Painting Event @Bear Republic\nNovember 27\, 2022\, 5:00 – 7:00 PM\nBear Republic Brewing Co.\, 5000 Roberts Lake Rd\, Rohnert Park\, CA 94928\, USA
X-ALT-DESC;FMTTYPE=text/html:Thank you for registering to our painting event! Your name is on our list\, so don't forget your name\, lol. (Remember to bring your ID if its a drinking establishment) \n\nWe're looking forward to seeing you there.\n\nHere are the details:\nHere are the details:<br>Rainy Evening in SF Painting Event @Bear Republic\nNovember 27\, 2022\, 5:00 – 7:00 PM\nBear Republic Brewing Co.\, 5000 Roberts Lake Rd\, Rohnert Park\, CA 94928\, USA
END:VEVENT
END:VCALENDAR
