BEGIN:VCALENDAR
CALSCALE:GREGORIAN
BEGIN:VEVENT
DTSTAMP:20250112T004911Z
DTSTART:20230922T010000Z
DTEND:20230922T030000Z
SUMMARY:Windsor Hills Painting @ Tonti Family Wines
UID:0385fdbc-c7ea-4f4b-8edf-67b5177f8aae
LOCATION:9086 Windsor Rd\, Windsor\, CA 95492\, USA
DESCRIPTION:Thank you for registering to our painting event! Your name is on our list\, so don't forget your name\, lol. (Remember to bring your ID if its a drinking establishment) \n\nWe're looking forward to seeing you there.\n\nHere are the details:\nHere are the details:\n\nWindsor Hills Painting @ Tonti Family Wines\nSeptember 21\, 2023\, 6:00 – 8:00 PM\nTonti Family Wines\, 9086 Windsor Rd\, Windsor\, CA 95492\, USA
X-ALT-DESC;FMTTYPE=text/html:Thank you for registering to our painting event! Your name is on our list\, so don't forget your name\, lol. (Remember to bring your ID if its a drinking establishment) \n\nWe're looking forward to seeing you there.\n\nHere are the details:\nHere are the details:<br>Windsor Hills Painting @ Tonti Family Wines\nSeptember 21\, 2023\, 6:00 – 8:00 PM\nTonti Family Wines\, 9086 Windsor Rd\, Windsor\, CA 95492\, USA
END:VEVENT
END:VCALENDAR
