BEGIN:VCALENDAR
CALSCALE:GREGORIAN
BEGIN:VEVENT
DTSTAMP:20250112T004820Z
DTSTART:20240301T020000Z
DTEND:20240301T040000Z
SUMMARY:Painting @ Tonti Family Wines 
UID:03f91c45-3d54-4f88-8484-3ec0909ad294
LOCATION:9086 Windsor Rd\, Windsor\, CA 95492\, USA
DESCRIPTION:Thank you for registering to our painting event! Your name is on our list\, so don't forget your name\, lol. (Remember to bring your ID if its a drinking establishment) \n\nWe're looking forward to seeing you there.\n\nHere are the details:\nHere are the details:\n\nPainting @ Tonti Family Wines \nFebruary 29\, 2024\, 6:00 – 8:00 PM\nTonti Family Wines\, 9086 Windsor Rd\, Windsor\, CA 95492\, USA
X-ALT-DESC;FMTTYPE=text/html:Thank you for registering to our painting event! Your name is on our list\, so don't forget your name\, lol. (Remember to bring your ID if its a drinking establishment) \n\nWe're looking forward to seeing you there.\n\nHere are the details:\nHere are the details:<br>Painting @ Tonti Family Wines \nFebruary 29\, 2024\, 6:00 – 8:00 PM\nTonti Family Wines\, 9086 Windsor Rd\, Windsor\, CA 95492\, USA
END:VEVENT
END:VCALENDAR
