BEGIN:VCALENDAR
CALSCALE:GREGORIAN
BEGIN:VEVENT
DTSTAMP:20250112T004849Z
DTSTART:20220608T233000Z
DTEND:20220609T233000Z
SUMMARY:Almaden Team Building Event
UID:0a5c4afd-fae6-4e7b-b3ad-b3674c5d8c4c
LOCATION:One Doubletree\, Rohnert Park\, CA 94928\, USA
DESCRIPTION:Thank you for registering to our event! Your tickets are attached to this email. Don't forget to bring them.\n\nWe're looking forward to seeing you there.\n\nHere are the details:\n\nAlmaden Team Building Event\nJune 8\, 2022 at 4:30 PM\nDoubletree\, Rohnert Park\, One Doubletree\, Rohnert Park\, CA 94928\, USA
X-ALT-DESC;FMTTYPE=text/html:Thank you for registering to our event! Your tickets are attached to this email. Don't forget to bring them.\n\nWe're looking forward to seeing you there.\n\nHere are the details:<br>Almaden Team Building Event\nJune 8\, 2022 at 4:30 PM\nDoubletree\, Rohnert Park\, One Doubletree\, Rohnert Park\, CA 94928\, USA
END:VEVENT
END:VCALENDAR
