BEGIN:VCALENDAR
CALSCALE:GREGORIAN
BEGIN:VEVENT
DTSTAMP:20250112T004831Z
DTSTART:20230116T003000Z
DTEND:20230116T023500Z
SUMMARY:Bachelorette Party
UID:1444cbd8-1d53-41a1-949a-bc50930d86aa
LOCATION:100 S McDowell Blvd\, Petaluma\, CA 94954\, USA
DESCRIPTION:Thank you for registering to our event! Your tickets are attached to this email. Don't forget to bring them.\n\nWe're looking forward to seeing you there.\n\nHere are the details:\n\nBachelorette Party\nJanuary 15\, 2023\, 4:30 – 6:35 PM\nCafe Bellini\, 100 S McDowell Blvd\, Petaluma\, CA 94954\, USA
X-ALT-DESC;FMTTYPE=text/html:Thank you for registering to our event! Your tickets are attached to this email. Don't forget to bring them.\n\nWe're looking forward to seeing you there.\n\nHere are the details:<br>Bachelorette Party\nJanuary 15\, 2023\, 4:30 – 6:35 PM\nCafe Bellini\, 100 S McDowell Blvd\, Petaluma\, CA 94954\, USA
END:VEVENT
END:VCALENDAR
