BEGIN:VCALENDAR
CALSCALE:GREGORIAN
BEGIN:VEVENT
DTSTAMP:20250112T004917Z
DTSTART:20230728T000000Z
DTEND:20230728T010000Z
SUMMARY:Summer Activation Party at The Lodge of Sonoma
UID:153e095b-d9b5-4550-a700-67ca92166fb9
LOCATION:1325 Broadway\, Sonoma\, CA 95476\, USA
DESCRIPTION:Thank you for registering to our event! Your tickets are attached to this email. Don't forget to bring them.\n\nWe're looking forward to seeing you there.\n\nHere are the details:\n\nSummer Activation Party at The Lodge of Sonoma\nJuly 27\, 2023\, 5:00 – 6:00 PM\nThe Lodge of Sonoma\, 1325 Broadway\, Sonoma\, CA 95476\, USA
X-ALT-DESC;FMTTYPE=text/html:Thank you for registering to our event! Your tickets are attached to this email. Don't forget to bring them.\n\nWe're looking forward to seeing you there.\n\nHere are the details:<br>Summer Activation Party at The Lodge of Sonoma\nJuly 27\, 2023\, 5:00 – 6:00 PM\nThe Lodge of Sonoma\, 1325 Broadway\, Sonoma\, CA 95476\, USA
END:VEVENT
END:VCALENDAR
