BEGIN:VCALENDAR
CALSCALE:GREGORIAN
BEGIN:VEVENT
DTSTAMP:20250112T005023Z
DTSTART:20211024T190000Z
DTEND:20211024T210000Z
SUMMARY:Fusion Peruvian Grill - Sugar Skull
UID:15b389a8-27d9-4c8b-9ab4-8deea716911f
LOCATION:45 N B St\, San Mateo\, CA 94401\, USA
DESCRIPTION:Thank you for registering to our event! Your tickets are attached to this email. Don't forget to bring them.\n\nWe're looking forward to seeing you there.\n\nHere are the details:\n\nFusion Peruvian Grill - Sugar Skull\nOctober 24\, 2021\, 12:00 – 2:00 PM\nSan Mateo\, 45 N B St\, San Mateo\, CA 94401\, USA
X-ALT-DESC;FMTTYPE=text/html:Thank you for registering to our event! Your tickets are attached to this email. Don't forget to bring them.\n\nWe're looking forward to seeing you there.\n\nHere are the details:<br>Fusion Peruvian Grill - Sugar Skull\nOctober 24\, 2021\, 12:00 – 2:00 PM\nSan Mateo\, 45 N B St\, San Mateo\, CA 94401\, USA
END:VEVENT
END:VCALENDAR
