BEGIN:VCALENDAR
CALSCALE:GREGORIAN
BEGIN:VEVENT
DTSTAMP:20250112T004814Z
DTSTART:20240822T010000Z
DTEND:20240822T030000Z
SUMMARY:Wood Painting @Tasting Notes - Wine Lounge Collective
UID:16782b5a-65bc-4c01-828c-946d50717907
LOCATION:9086 Windsor Rd\, Windsor\, CA 95492\, USA
DESCRIPTION:Thank you for registering to our painting event! Your name is on our list\, so don't forget your name\, lol. (Remember to bring your ID if its a drinking establishment) \n\nWe're looking forward to seeing you there.\n\nHere are the details:\nHere are the details:\n\nWood Painting @Tasting Notes - Wine Lounge Collective\nAugust 21\, 2024\, 6:00 – 8:00 PM\nTasting Notes - Wine Lounge Collective\, 9086 Windsor Rd\, Windsor\, CA 95492\, USA
X-ALT-DESC;FMTTYPE=text/html:Thank you for registering to our painting event! Your name is on our list\, so don't forget your name\, lol. (Remember to bring your ID if its a drinking establishment) \n\nWe're looking forward to seeing you there.\n\nHere are the details:\nHere are the details:<br>Wood Painting @Tasting Notes - Wine Lounge Collective\nAugust 21\, 2024\, 6:00 – 8:00 PM\nTasting Notes - Wine Lounge Collective\, 9086 Windsor Rd\, Windsor\, CA 95492\, USA
END:VEVENT
END:VCALENDAR
