BEGIN:VCALENDAR
CALSCALE:GREGORIAN
BEGIN:VEVENT
DTSTAMP:20250112T005039Z
DTSTART:20220224T023000Z
DTEND:20220224T043000Z
SUMMARY:Painting Event at Reel and Brand 
UID:17558570-5c01-43f1-8fad-530237b43fc8
LOCATION:401 Grove St\, Sonoma\, CA 95476\, USA
DESCRIPTION:Thank you for registering to our event! Your tickets are attached to this email. Don't forget to bring them.\n\nWe're looking forward to seeing you there.\n\nHere are the details:\n\nPainting Event at Reel and Brand \nFebruary 23\, 2022\, 6:30 – 8:30 PM\nReel and Brand Restaurant\, 401 Grove St\, Sonoma\, CA 95476\, USA
X-ALT-DESC;FMTTYPE=text/html:Thank you for registering to our event! Your tickets are attached to this email. Don't forget to bring them.\n\nWe're looking forward to seeing you there.\n\nHere are the details:<br>Painting Event at Reel and Brand \nFebruary 23\, 2022\, 6:30 – 8:30 PM\nReel and Brand Restaurant\, 401 Grove St\, Sonoma\, CA 95476\, USA
END:VEVENT
END:VCALENDAR
