BEGIN:VCALENDAR
CALSCALE:GREGORIAN
BEGIN:VEVENT
DTSTAMP:20250112T004856Z
DTSTART:20211107T200000Z
DTEND:20211107T220000Z
SUMMARY:Fusion Peruvian Grill - Red Umbrella 
UID:18bb0eb3-3a0d-426d-bea8-ad3ea8a41be0
LOCATION:45 N B St\, San Mateo\, CA 94401\, USA
DESCRIPTION:Thank you for registering to our event! Your tickets are attached to this email. Don't forget to bring them.\n\nWe're looking forward to seeing you there.\n\nHere are the details:\n\nFusion Peruvian Grill - Red Umbrella \nNovember 7\, 2021\, 12:00 – 2:00 PM\nSan Mateo\, 45 N B St\, San Mateo\, CA 94401\, USA
X-ALT-DESC;FMTTYPE=text/html:Thank you for registering to our event! Your tickets are attached to this email. Don't forget to bring them.\n\nWe're looking forward to seeing you there.\n\nHere are the details:<br>Fusion Peruvian Grill - Red Umbrella \nNovember 7\, 2021\, 12:00 – 2:00 PM\nSan Mateo\, 45 N B St\, San Mateo\, CA 94401\, USA
END:VEVENT
END:VCALENDAR
