BEGIN:VCALENDAR
CALSCALE:GREGORIAN
BEGIN:VEVENT
DTSTAMP:20250112T004938Z
DTSTART:20240928T220000Z
DTEND:20240929T000000Z
SUMMARY:Private Wood Painting event
UID:19023b25-20e0-4fa0-9806-f4bc4a811b85
LOCATION:1251 Shiloh Rd\, Windsor\, CA 95492\, USA
DESCRIPTION:Thank you for registering to our painting event! Your name is on our list\, so don't forget your name\, lol. (Remember to bring your ID if its a drinking establishment) \n\nWe're looking forward to seeing you there.\n\nHere are the details:\nHere are the details:\n\nPrivate Wood Painting event\nSeptember 28\, 2024\, 3:00 – 5:00 PM\nWindsor\, 1251 Shiloh Rd\, Windsor\, CA 95492\, USA
X-ALT-DESC;FMTTYPE=text/html:Thank you for registering to our painting event! Your name is on our list\, so don't forget your name\, lol. (Remember to bring your ID if its a drinking establishment) \n\nWe're looking forward to seeing you there.\n\nHere are the details:\nHere are the details:<br>Private Wood Painting event\nSeptember 28\, 2024\, 3:00 – 5:00 PM\nWindsor\, 1251 Shiloh Rd\, Windsor\, CA 95492\, USA
END:VEVENT
END:VCALENDAR
