BEGIN:VCALENDAR
CALSCALE:GREGORIAN
BEGIN:VEVENT
DTSTAMP:20250112T004836Z
DTSTART:20230929T013000Z
DTEND:20230929T030000Z
SUMMARY:Wood Painting @Mountain Mike's Pizza\, Cleveland Ave. Santa Rosa 
UID:13285ea7-5088-4185-8985-db34bd423853
LOCATION:3125 Cleveland Ave\, Santa Rosa\, CA 95403\, USA
DESCRIPTION:Thank you for registering to our painting event! Your name is on our list\, so don't forget your name\, lol. (Remember to bring your ID if its a drinking establishment) \n\nWe're looking forward to seeing you there.\n\nHere are the details:\nHere are the details:\n\nWood Painting @Mountain Mike's Pizza\, Cleveland Ave. Santa Rosa \nSeptember 28\, 2023\, 6:30 – 8:00 PM\nSanta Rosa\, 3125 Cleveland Ave\, Santa Rosa\, CA 95403\, USA
X-ALT-DESC;FMTTYPE=text/html:Thank you for registering to our painting event! Your name is on our list\, so don't forget your name\, lol. (Remember to bring your ID if its a drinking establishment) \n\nWe're looking forward to seeing you there.\n\nHere are the details:\nHere are the details:<br>Wood Painting @Mountain Mike's Pizza\, Cleveland Ave. Santa Rosa \nSeptember 28\, 2023\, 6:30 – 8:00 PM\nSanta Rosa\, 3125 Cleveland Ave\, Santa Rosa\, CA 95403\, USA
END:VEVENT
END:VCALENDAR
