BEGIN:VCALENDAR
CALSCALE:GREGORIAN
BEGIN:VEVENT
DTSTAMP:20250112T004749Z
DTSTART:20240510T013000Z
DTEND:20240510T040000Z
SUMMARY:Paint Your Pet @Mountain Mikes
UID:1b709e50-283d-43db-b0cc-08604aae9e66
LOCATION:3125 Cleveland Ave\, Santa Rosa\, CA 95403\, USA
DESCRIPTION:Thank you for registering to our painting event!\nPlease reply to this email or email\, Info@asipofcolor.com \nInclude:\nYour name you signed up under. Date of event and a photo of your pets face. Please send us a clear image\, Ideally your pets face down at there level\, straight on. Tip\, take a short video of your pet and send an image from that.  Please do so with in 24 hours of signing up. Thank you!\n\n Your name is on our list\, so don't forget your name\, lol. (Remember to bring your ID if its a drinking establishment) \n\nWe're looking forward to seeing you there.\n\nHere are the details:\n\nPaint Your Pet @Mountain Mikes\nMay 9\, 2024\, 6:30 – 9:00 PM\nMountain Mikes Pizza in Santa Rosa\, 3125 Cleveland Ave\, Santa Rosa\, CA 95403\, USA
X-ALT-DESC;FMTTYPE=text/html:Thank you for registering to our painting event!\nPlease reply to this email or email\, Info@asipofcolor.com \nInclude:\nYour name you signed up under. Date of event and a photo of your pets face. Please send us a clear image\, Ideally your pets face down at there level\, straight on. Tip\, take a short video of your pet and send an image from that.  Please do so with in 24 hours of signing up. Thank you!\n\n Your name is on our list\, so don't forget your name\, lol. (Remember to bring your ID if its a drinking establishment) \n\nWe're looking forward to seeing you there.\n\nHere are the details:<br>Paint Your Pet @Mountain Mikes\nMay 9\, 2024\, 6:30 – 9:00 PM\nMountain Mikes Pizza in Santa Rosa\, 3125 Cleveland Ave\, Santa Rosa\, CA 95403\, USA
END:VEVENT
END:VCALENDAR
