BEGIN:VCALENDAR
CALSCALE:GREGORIAN
BEGIN:VEVENT
DTSTAMP:20250112T004936Z
DTSTART:20241208T230022Z
DTEND:20241209T010022Z
SUMMARY:Wreath Workshop Event at Merryvale Vineyards in St. Helena 
UID:1e7f0953-be71-4443-b6e1-3a9f0beeaf79
LOCATION:1000 Main St\, St Helena\, CA 94574\, USA
X-ALT-DESC;FMTTYPE=text/html:
END:VEVENT
END:VCALENDAR
