BEGIN:VCALENDAR
CALSCALE:GREGORIAN
BEGIN:VEVENT
DTSTAMP:20250112T003041Z
DTSTART:20250321T010000Z
DTEND:20250321T030000Z
SUMMARY:Tasting Notes - Moss Wall Art 
UID:25ad52d2-6ec3-4e9a-925b-4c7ae41fec1e
LOCATION:9086 Windsor Rd\, Windsor\, CA 95492\, USA
DESCRIPTION:Thank you for registering to our painting event! Your name is on our list\, so don't forget your name\, lol. (Remember to bring your ID if its a drinking establishment) \n\nWe're looking forward to seeing you there.\n\nHere are the details:\nHere are the details:\n\nTasting Notes - Moss Wall Art \nMarch 20\, 2025\, 6:00 – 8:00 PM\nTasting Notes - Wine Lounge Collective\, 9086 Windsor Rd\, Windsor\, CA 95492\, USA
X-ALT-DESC;FMTTYPE=text/html:Thank you for registering to our painting event! Your name is on our list\, so don't forget your name\, lol. (Remember to bring your ID if its a drinking establishment) \n\nWe're looking forward to seeing you there.\n\nHere are the details:\nHere are the details:<br>Tasting Notes - Moss Wall Art \nMarch 20\, 2025\, 6:00 – 8:00 PM\nTasting Notes - Wine Lounge Collective\, 9086 Windsor Rd\, Windsor\, CA 95492\, USA
END:VEVENT
END:VCALENDAR
