BEGIN:VCALENDAR
CALSCALE:GREGORIAN
BEGIN:VEVENT
DTSTAMP:20250112T004753Z
DTSTART:20231206T020022Z
DTEND:20231206T040523Z
SUMMARY:Wreath Workshop Event @Sally Tomatoes
UID:27d8a1f9-222b-42a1-9c6b-95fcd3e80f8a
LOCATION:1100 Valley House Dr\, Rohnert Park\, CA 94928\, USA
DESCRIPTION:Thank you for registering to our painting event! Your name is on our list\, so don't forget your name\, lol. (Remember to bring your ID if its a drinking establishment) \n\nWe're looking forward to seeing you there.\n\nHere are the details:\nHere are the details:\n\nWreath Workshop Event @Sally Tomatoes\nDecember 5\, 2023\, 6:00 – 8:05 PM\nSally Tomatoes\, 1100 Valley House Dr\, Rohnert Park\, CA 94928\, USA
X-ALT-DESC;FMTTYPE=text/html:Thank you for registering to our painting event! Your name is on our list\, so don't forget your name\, lol. (Remember to bring your ID if its a drinking establishment) \n\nWe're looking forward to seeing you there.\n\nHere are the details:\nHere are the details:<br>Wreath Workshop Event @Sally Tomatoes\nDecember 5\, 2023\, 6:00 – 8:05 PM\nSally Tomatoes\, 1100 Valley House Dr\, Rohnert Park\, CA 94928\, USA
END:VEVENT
END:VCALENDAR
