BEGIN:VCALENDAR
CALSCALE:GREGORIAN
BEGIN:VEVENT
DTSTAMP:20250112T004845Z
DTSTART:20221215T023000Z
DTEND:20221215T035000Z
SUMMARY:Holiday Wreath @ Trek Winery Novato
UID:2e7716fc-dd55-4c7a-9b1c-77e33b75d350
LOCATION:1026 Machin Ave\, Novato\, CA 94945\, USA
DESCRIPTION:Thank you for registering to our painting event! Your name is on our list\, so don't forget your name\, lol. (Remember to bring your ID if its a drinking establishment) \n\nWe're looking forward to seeing you there.\n\nHere are the details:\nHere are the details:\n\nHoliday Wreath @ Trek Winery Novato\nDecember 14\, 2022\, 6:30 – 7:50 PM\nNovato\, 1026 Machin Ave\, Novato\, CA 94945\, USA
X-ALT-DESC;FMTTYPE=text/html:Thank you for registering to our painting event! Your name is on our list\, so don't forget your name\, lol. (Remember to bring your ID if its a drinking establishment) \n\nWe're looking forward to seeing you there.\n\nHere are the details:\nHere are the details:<br>Holiday Wreath @ Trek Winery Novato\nDecember 14\, 2022\, 6:30 – 7:50 PM\nNovato\, 1026 Machin Ave\, Novato\, CA 94945\, USA
END:VEVENT
END:VCALENDAR
