BEGIN:VCALENDAR
CALSCALE:GREGORIAN
BEGIN:VEVENT
DTSTAMP:20250112T005020Z
DTSTART:20221213T003000Z
DTEND:20221213T023000Z
SUMMARY:Private Painting Event for Palliative Care Group (Try other Link) 
UID:2ed37d4d-b0d4-4cd2-bf21-57884355eda8
LOCATION:121 E Spain St\, Sonoma\, CA 95476\, USA
DESCRIPTION:Thank you for registering to our event! Your tickets are attached to this email. Don't forget to bring them.\n\nWe're looking forward to seeing you there.\n\nHere are the details:\n\nPrivate Painting Event for Palliative Care Group (Try other Link) \nDecember 12\, 2022\, 4:30 – 6:30 PM\nLa Casa Restaurant and Bar\, 121 E Spain St\, Sonoma\, CA 95476\, USA
X-ALT-DESC;FMTTYPE=text/html:Thank you for registering to our event! Your tickets are attached to this email. Don't forget to bring them.\n\nWe're looking forward to seeing you there.\n\nHere are the details:<br>Private Painting Event for Palliative Care Group (Try other Link) \nDecember 12\, 2022\, 4:30 – 6:30 PM\nLa Casa Restaurant and Bar\, 121 E Spain St\, Sonoma\, CA 95476\, USA
END:VEVENT
END:VCALENDAR
