BEGIN:VCALENDAR
CALSCALE:GREGORIAN
BEGIN:VEVENT
DTSTAMP:20250112T005108Z
DTSTART:20231114T013022Z
DTEND:20231114T033022Z
SUMMARY:Wreath Workshop Event for Hahn and Evergreen Elementary 
UID:35d48c4b-24e9-4be9-8175-e42dd3f5c94a
LOCATION:1100 Valley House Dr\, Rohnert Park\, CA 94928\, USA
DESCRIPTION:Thank you for registering to our painting event! Your name is on our list\, so don't forget your name\, lol. (Remember to bring your ID if its a drinking establishment) \n\nWe're looking forward to seeing you there.\n\nHere are the details:\nHere are the details:\n\nWreath Workshop Event for Hahn and Evergreen Elementary \nNovember 13\, 2023\, 5:30 – 7:30 PM\nSally Tomatoes\, 1100 Valley House Dr\, Rohnert Park\, CA 94928\, USA
X-ALT-DESC;FMTTYPE=text/html:Thank you for registering to our painting event! Your name is on our list\, so don't forget your name\, lol. (Remember to bring your ID if its a drinking establishment) \n\nWe're looking forward to seeing you there.\n\nHere are the details:\nHere are the details:<br>Wreath Workshop Event for Hahn and Evergreen Elementary \nNovember 13\, 2023\, 5:30 – 7:30 PM\nSally Tomatoes\, 1100 Valley House Dr\, Rohnert Park\, CA 94928\, USA
END:VEVENT
END:VCALENDAR
