BEGIN:VCALENDAR
CALSCALE:GREGORIAN
BEGIN:VEVENT
DTSTAMP:20250112T005105Z
DTSTART:20230330T010000Z
DTEND:20230330T030000Z
SUMMARY:Private Painting Event Rohnert Park 3/29/23
UID:319d2998-50d3-4f9c-80d1-4923f09f95b3
LOCATION:600 Rohnert Park Expy\, Rohnert Park\, CA 94928\, USA
DESCRIPTION:Thank you for registering to our painting event! Your name is on our list\, so don't forget your name\, lol. (Remember to bring your ID if its a drinking establishment) \n\nWe're looking forward to seeing you there.\n\nHere are the details:\nHere are the details:\n\nPrivate Painting Event Rohnert Park 3/29/23\nMarch 29\, 2023\, 6:00 – 8:00 PM\nBell Partners Rohnert Park\, 600 Rohnert Park Expy\, Rohnert Park\, CA 94928\, USA
X-ALT-DESC;FMTTYPE=text/html:Thank you for registering to our painting event! Your name is on our list\, so don't forget your name\, lol. (Remember to bring your ID if its a drinking establishment) \n\nWe're looking forward to seeing you there.\n\nHere are the details:\nHere are the details:<br>Private Painting Event Rohnert Park 3/29/23\nMarch 29\, 2023\, 6:00 – 8:00 PM\nBell Partners Rohnert Park\, 600 Rohnert Park Expy\, Rohnert Park\, CA 94928\, USA
END:VEVENT
END:VCALENDAR
