BEGIN:VCALENDAR
CALSCALE:GREGORIAN
BEGIN:VEVENT
DTSTAMP:20250112T005051Z
DTSTART:20240720T010000Z
DTEND:20240720T030000Z
SUMMARY:Young & Yonder Spirits in Healdsburg  
UID:3b73cff9-563b-48e0-a273-ac1a5e909225
LOCATION:449 Allan Ct\, Healdsburg\, CA 95448\, USA
DESCRIPTION:Thank you for registering to our painting event! Your name is on our list\, so don't forget your name\, lol. (Remember to bring your ID if its a drinking establishment) \n\nWe're looking forward to seeing you there.\n\nHere are the details:\nHere are the details:\n\nYoung & Yonder Spirits in Healdsburg  \nJuly 19\, 2024\, 6:00 – 8:00 PM\nYoung & Yonder Spirits\, 449 Allan Ct\, Healdsburg\, CA 95448\, USA
X-ALT-DESC;FMTTYPE=text/html:Thank you for registering to our painting event! Your name is on our list\, so don't forget your name\, lol. (Remember to bring your ID if its a drinking establishment) \n\nWe're looking forward to seeing you there.\n\nHere are the details:\nHere are the details:<br>Young & Yonder Spirits in Healdsburg  \nJuly 19\, 2024\, 6:00 – 8:00 PM\nYoung & Yonder Spirits\, 449 Allan Ct\, Healdsburg\, CA 95448\, USA
END:VEVENT
END:VCALENDAR
