BEGIN:VCALENDAR
CALSCALE:GREGORIAN
BEGIN:VEVENT
DTSTAMP:20250112T004836Z
DTSTART:20221215T020000Z
DTEND:20221215T040000Z
SUMMARY: Holiday Painting @ Sally Tomatoes
UID:3cb909b0-bf5c-40f9-8c41-1115314e569c
LOCATION:1100 Valley House Dr\, Rohnert Park\, CA 94928\, USA
DESCRIPTION:Thank you for registering to our painting event! Your name is on our list\, so don't forget your name\, lol. (Remember to bring your ID if its a drinking establishment) \n\nWe're looking forward to seeing you there.\n\nHere are the details:\nHere are the details:\n\nHoliday Painting @ Sally Tomatoes\nDecember 14\, 2022\, 6:00 – 8:00 PM\nSally Tomatoes in Rohnert Park\, 1100 Valley House Dr\, Rohnert Park\, CA 94928\, USA
X-ALT-DESC;FMTTYPE=text/html:Thank you for registering to our painting event! Your name is on our list\, so don't forget your name\, lol. (Remember to bring your ID if its a drinking establishment) \n\nWe're looking forward to seeing you there.\n\nHere are the details:\nHere are the details:<br>Holiday Painting @ Sally Tomatoes\nDecember 14\, 2022\, 6:00 – 8:00 PM\nSally Tomatoes in Rohnert Park\, 1100 Valley House Dr\, Rohnert Park\, CA 94928\, USA
END:VEVENT
END:VCALENDAR
