BEGIN:VCALENDAR
CALSCALE:GREGORIAN
BEGIN:VEVENT
DTSTAMP:20250112T005105Z
DTSTART:20241204T023022Z
DTEND:20241204T043023Z
SUMMARY:Wreath Workshop Event @Sally Tomatoes
UID:3dd13675-8cb5-4549-81a9-b7772748da71
LOCATION:1100 Valley House Dr\, Rohnert Park\, CA 94928\, USA
DESCRIPTION:Thank you for registering to our painting event! Your name is on our list\, so don't forget your name\, lol. (Remember to bring your ID if its a drinking establishment) \n\nWe're looking forward to seeing you there.\n\nHere are the details:\nHere are the details:\n\nWreath Workshop Event @Sally Tomatoes\nDecember 3\, 2024\, 6:30 – 8:30 PM\nSally Tomatoes\, 1100 Valley House Dr\, Rohnert Park\, CA 94928\, USA
X-ALT-DESC;FMTTYPE=text/html:Thank you for registering to our painting event! Your name is on our list\, so don't forget your name\, lol. (Remember to bring your ID if its a drinking establishment) \n\nWe're looking forward to seeing you there.\n\nHere are the details:\nHere are the details:<br>Wreath Workshop Event @Sally Tomatoes\nDecember 3\, 2024\, 6:30 – 8:30 PM\nSally Tomatoes\, 1100 Valley House Dr\, Rohnert Park\, CA 94928\, USA
END:VEVENT
END:VCALENDAR
