BEGIN:VCALENDAR
CALSCALE:GREGORIAN
BEGIN:VEVENT
DTSTAMP:20250112T005028Z
DTSTART:20230616T013000Z
DTEND:20230616T030000Z
SUMMARY:1 Gallon Jar! Enclosed Ecosystem Terrarium@Mountain Mike's Pizza\, Cleveland Ave. 
UID:3f367997-2e94-422a-aff7-1d97d07fc453
LOCATION:3125 Cleveland Ave\, Santa Rosa\, CA 95403\, USA
DESCRIPTION:Thank you for registering to our painting event! Your name is on our list\, so don't forget your name\, lol. (Remember to bring your ID if its a drinking establishment) \n\nWe're looking forward to seeing you there.\n\nHere are the details:\nHere are the details:\n\n1 Gallon Jar! Enclosed Ecosystem Terrarium@Mountain Mike's Pizza\, Cleveland Ave. \nJune 15\, 2023\, 6:30 – 8:00 PM\nSanta Rosa\, 3125 Cleveland Ave\, Santa Rosa\, CA 95403\, USA
X-ALT-DESC;FMTTYPE=text/html:Thank you for registering to our painting event! Your name is on our list\, so don't forget your name\, lol. (Remember to bring your ID if its a drinking establishment) \n\nWe're looking forward to seeing you there.\n\nHere are the details:\nHere are the details:<br>1 Gallon Jar! Enclosed Ecosystem Terrarium@Mountain Mike's Pizza\, Cleveland Ave. \nJune 15\, 2023\, 6:30 – 8:00 PM\nSanta Rosa\, 3125 Cleveland Ave\, Santa Rosa\, CA 95403\, USA
END:VEVENT
END:VCALENDAR
