BEGIN:VCALENDAR
CALSCALE:GREGORIAN
BEGIN:VEVENT
DTSTAMP:20250112T004956Z
DTSTART:20221214T020000Z
DTEND:20221214T040000Z
SUMMARY: Frosty Painting @ Cafe Bellini\, Petaluma
UID:44c0ab94-feb1-4cf3-817a-df53537f4d29
LOCATION:100 S McDowell Blvd\, Petaluma\, CA 94954\, USA
DESCRIPTION:Thank you for registering to our painting event! Your name is on our list\, so don't forget your name\, lol. (Remember to bring your ID if its a drinking establishment) \n\nWe're looking forward to seeing you there.\n\nHere are the details:\nHere are the details:\n\nFrosty Painting @ Cafe Bellini\, Petaluma\nDecember 13\, 2022\, 6:00 – 8:00 PM\nCafe Bellini\, 100 S McDowell Blvd\, Petaluma\, CA 94954\, USA
X-ALT-DESC;FMTTYPE=text/html:Thank you for registering to our painting event! Your name is on our list\, so don't forget your name\, lol. (Remember to bring your ID if its a drinking establishment) \n\nWe're looking forward to seeing you there.\n\nHere are the details:\nHere are the details:<br>Frosty Painting @ Cafe Bellini\, Petaluma\nDecember 13\, 2022\, 6:00 – 8:00 PM\nCafe Bellini\, 100 S McDowell Blvd\, Petaluma\, CA 94954\, USA
END:VEVENT
END:VCALENDAR
