BEGIN:VCALENDAR
CALSCALE:GREGORIAN
BEGIN:VEVENT
DTSTAMP:20250112T004926Z
DTSTART:20220604T210000Z
DTEND:20220605T210000Z
SUMMARY:Nadia Alrawi Private Painting Event
UID:456207a6-9b60-419f-99a6-7e6cc4846a75
LOCATION:Santa Rosa\, CA\, USA
DESCRIPTION:Thank you for registering to our event! Your tickets are attached to this email. Don't forget to bring them.\n\nWe're looking forward to seeing you there.\n\nHere are the details:\n\nNadia Alrawi Private Painting Event\nJune 4\, 2022 at 2:00 PM\nSanta Rosa\, Santa Rosa\, CA\, USA
X-ALT-DESC;FMTTYPE=text/html:Thank you for registering to our event! Your tickets are attached to this email. Don't forget to bring them.\n\nWe're looking forward to seeing you there.\n\nHere are the details:<br>Nadia Alrawi Private Painting Event\nJune 4\, 2022 at 2:00 PM\nSanta Rosa\, Santa Rosa\, CA\, USA
END:VEVENT
END:VCALENDAR
