BEGIN:VCALENDAR
CALSCALE:GREGORIAN
BEGIN:VEVENT
DTSTAMP:20250112T005009Z
DTSTART:20220506T013000Z
DTEND:20220507T033000Z
SUMMARY:Palm Painting at Embassy Suites 
UID:458d5161-e3c6-47a3-80c0-f690c7d8639a
LOCATION:101 McInnis Pkwy\, San Rafael\, CA 94903\, USA
DESCRIPTION:Thank you for registering to our event! Your tickets are attached to this email. Don't forget to bring them.\n\nWe're looking forward to seeing you there.\n\nHere are the details:\n\nPalm Painting at Embassy Suites \nMay 5\, 2022 at 6:30 PM – May 6\, 2022 at 8:30 PM\nSan Rafael\, 101 McInnis Pkwy\, San Rafael\, CA 94903\, USA
X-ALT-DESC;FMTTYPE=text/html:Thank you for registering to our event! Your tickets are attached to this email. Don't forget to bring them.\n\nWe're looking forward to seeing you there.\n\nHere are the details:<br>Palm Painting at Embassy Suites \nMay 5\, 2022 at 6:30 PM – May 6\, 2022 at 8:30 PM\nSan Rafael\, 101 McInnis Pkwy\, San Rafael\, CA 94903\, USA
END:VEVENT
END:VCALENDAR
