BEGIN:VCALENDAR
CALSCALE:GREGORIAN
BEGIN:VEVENT
DTSTAMP:20250112T005000Z
DTSTART:20230513T190000Z
DTEND:20230513T203000Z
SUMMARY:Plein Air Event 5/13/23 
UID:475e6ddf-53af-4016-a47a-ab7c48387e18
DESCRIPTION:Thank you for registering to our event! Your tickets are attached to this email. Don't forget to bring them.\n\nWe're looking forward to seeing you there.\n\nHere are the details:\n\nPlein Air Event 5/13/23 \nMay 13\, 2023\, 12:00 – 1:30 PM\nSonoma Vineyards
X-ALT-DESC;FMTTYPE=text/html:Thank you for registering to our event! Your tickets are attached to this email. Don't forget to bring them.\n\nWe're looking forward to seeing you there.\n\nHere are the details:<br>Plein Air Event 5/13/23 \nMay 13\, 2023\, 12:00 – 1:30 PM\nSonoma Vineyards
END:VEVENT
END:VCALENDAR
