BEGIN:VCALENDAR
CALSCALE:GREGORIAN
BEGIN:VEVENT
DTSTAMP:20250112T004820Z
DTSTART:20240203T213022Z
DTEND:20240203T233022Z
SUMMARY:Ava and Bella Taylor's 10th Birthday Painting Party
UID:47dda012-d2ca-4fa3-b2c9-14fba60e75fa
LOCATION:726 Old King Rd\, Petaluma\, CA 94952\, USA
DESCRIPTION:Thank you for registering to our painting event! Your name is on our list\, so don't forget your name\, lol. (Remember to bring your ID if its a drinking establishment) \n\nWe're looking forward to seeing you there.\n\nHere are the details:\nHere are the details:\n\nAva and Bella Taylor's 10th Birthday Painting Party\nFebruary 3\, 2024\, 1:30 – 3:30 PM\nPetaluma\, 726 Old King Rd\, Petaluma\, CA 94952\, USA
X-ALT-DESC;FMTTYPE=text/html:Thank you for registering to our painting event! Your name is on our list\, so don't forget your name\, lol. (Remember to bring your ID if its a drinking establishment) \n\nWe're looking forward to seeing you there.\n\nHere are the details:\nHere are the details:<br>Ava and Bella Taylor's 10th Birthday Painting Party\nFebruary 3\, 2024\, 1:30 – 3:30 PM\nPetaluma\, 726 Old King Rd\, Petaluma\, CA 94952\, USA
END:VEVENT
END:VCALENDAR
