BEGIN:VCALENDAR
CALSCALE:GREGORIAN
BEGIN:VEVENT
DTSTAMP:20250112T004823Z
DTSTART:20230519T173000Z
DTEND:20230519T193000Z
SUMMARY:Tulip Painting @Zaina's Bellini Cafe
UID:4816d099-9147-413b-a2fd-ffbda06492ab
LOCATION:7981 Old Redwood Hwy Suite A\, Cotati\, CA 94931\, USA
DESCRIPTION:Thank you for registering to our painting event! Your name is on our list\, so don't forget your name\, lol. (Remember to bring your ID if its a drinking establishment) \n\nWe're looking forward to seeing you there.\n\nHere are the details:\nHere are the details:\n\nTulip Painting @Zaina's Bellini Cafe\nMay 19\, 2023\, 10:30 AM – 12:30 PM\nZaina's Bellini Cafe Cotati\, 7981 Old Redwood Hwy Suite A\, Cotati\, CA 94931\, USA
X-ALT-DESC;FMTTYPE=text/html:Thank you for registering to our painting event! Your name is on our list\, so don't forget your name\, lol. (Remember to bring your ID if its a drinking establishment) \n\nWe're looking forward to seeing you there.\n\nHere are the details:\nHere are the details:<br>Tulip Painting @Zaina's Bellini Cafe\nMay 19\, 2023\, 10:30 AM – 12:30 PM\nZaina's Bellini Cafe Cotati\, 7981 Old Redwood Hwy Suite A\, Cotati\, CA 94931\, USA
END:VEVENT
END:VCALENDAR
