BEGIN:VCALENDAR
CALSCALE:GREGORIAN
BEGIN:VEVENT
DTSTAMP:20250112T004805Z
DTSTART:20211204T230000Z
DTEND:20211205T010000Z
SUMMARY:Debbie's Birthday Paint Party
UID:49417c8b-dc4f-4cfc-b5f0-1863bc14b542
LOCATION:1612 badger canyon lane arroyo grande ca 93420
DESCRIPTION:Thank you for registering to our event! Your tickets are attached to this email. Don't forget to bring them.\n\nWe're looking forward to seeing you there.\n\nHere are the details:\n\nDebbie's Birthday Paint Party\nDecember 4\, 2021\, 3:00 – 5:00 PM PST\n1612 badger canyon lane arroyo grande ca 93420
X-ALT-DESC;FMTTYPE=text/html:Thank you for registering to our event! Your tickets are attached to this email. Don't forget to bring them.\n\nWe're looking forward to seeing you there.\n\nHere are the details:<br>Debbie's Birthday Paint Party\nDecember 4\, 2021\, 3:00 – 5:00 PM PST\n1612 badger canyon lane arroyo grande ca 93420
END:VEVENT
END:VCALENDAR
