BEGIN:VCALENDAR
CALSCALE:GREGORIAN
BEGIN:VEVENT
DTSTAMP:20250112T005052Z
DTSTART:20211130T230000Z
DTEND:20211201T010000Z
SUMMARY:Private Painting Event at Fogarty Winery
UID:4b510172-ce74-4b26-a207-14f28c79ba64
LOCATION:19501 Skyline Blvd\, Woodside\, CA 94062\, USA
DESCRIPTION:Thank you for registering to our event! Your tickets are attached to this email. Don't forget to bring them.\n\nWe're looking forward to seeing you there.\n\nHere are the details:\n\nPrivate Painting Event at Fogarty Winery\nNovember 30\, 2021\, 3:00 – 5:00 PM\nWoodside\, 19501 Skyline Blvd\, Woodside\, CA 94062\, USA
X-ALT-DESC;FMTTYPE=text/html:Thank you for registering to our event! Your tickets are attached to this email. Don't forget to bring them.\n\nWe're looking forward to seeing you there.\n\nHere are the details:<br>Private Painting Event at Fogarty Winery\nNovember 30\, 2021\, 3:00 – 5:00 PM\nWoodside\, 19501 Skyline Blvd\, Woodside\, CA 94062\, USA
END:VEVENT
END:VCALENDAR
