BEGIN:VCALENDAR
CALSCALE:GREGORIAN
BEGIN:VEVENT
DTSTAMP:20250112T005112Z
DTSTART:20220311T023000Z
DTEND:20220311T043000Z
SUMMARY:Irish Gnome Painting Event at Embassy Suites San Rafael
UID:4eb1a4ae-585d-4fea-9ce7-c1199ca387f9
LOCATION:101 McInnis Pkwy\, San Rafael\, CA 94903\, USA
DESCRIPTION:Thank you for registering to our event! Your tickets are attached to this email. Don't forget to bring them.\n\nWe're looking forward to seeing you there.\n\nHere are the details:\n\nIrish Gnome Painting Event at Embassy Suites San Rafael\nMarch 10\, 2022\, 6:30 – 8:30 PM PST\nEmbassy Suites San Rafael\, 101 McInnis Pkwy\, San Rafael\, CA 94903\, USA
X-ALT-DESC;FMTTYPE=text/html:Thank you for registering to our event! Your tickets are attached to this email. Don't forget to bring them.\n\nWe're looking forward to seeing you there.\n\nHere are the details:<br>Irish Gnome Painting Event at Embassy Suites San Rafael\nMarch 10\, 2022\, 6:30 – 8:30 PM PST\nEmbassy Suites San Rafael\, 101 McInnis Pkwy\, San Rafael\, CA 94903\, USA
END:VEVENT
END:VCALENDAR
