BEGIN:VCALENDAR
CALSCALE:GREGORIAN
BEGIN:VEVENT
DTSTAMP:20250112T002944Z
DTSTART:20250326T010000Z
DTEND:20250326T030000Z
SUMMARY:Epicenter - Living Succulent Wreath Workshop
UID:54bb8d00-b486-4b1f-a19e-169e7d8ae06d
LOCATION:3215 Coffey Ln\, Santa Rosa\, CA 95403\, USA
DESCRIPTION:Thank you for registering to our painting event! Your name is on our list\, so don't forget your name\, lol. (Remember to bring your ID if its a drinking establishment) \n\nWe're looking forward to seeing you there.\n\nHere are the details:\nHere are the details:\n\nEpicenter - Living Succulent Wreath Workshop\nMarch 25\, 2025\, 6:00 – 8:00 PM\nEpicenter - Victory House - Trophy Room\, 3215 Coffey Ln\, Santa Rosa\, CA 95403\, USA
X-ALT-DESC;FMTTYPE=text/html:Thank you for registering to our painting event! Your name is on our list\, so don't forget your name\, lol. (Remember to bring your ID if its a drinking establishment) \n\nWe're looking forward to seeing you there.\n\nHere are the details:\nHere are the details:<br>Epicenter - Living Succulent Wreath Workshop\nMarch 25\, 2025\, 6:00 – 8:00 PM\nEpicenter - Victory House - Trophy Room\, 3215 Coffey Ln\, Santa Rosa\, CA 95403\, USA
END:VEVENT
END:VCALENDAR
