BEGIN:VCALENDAR
CALSCALE:GREGORIAN
BEGIN:VEVENT
DTSTAMP:20250112T004944Z
DTSTART:20210708T010000Z
DTEND:20210708T050000Z
SUMMARY:American Barn Painting @ Sally Tomatoes in RP  
UID:5609b257-cbc9-4a7d-a130-09ca73df4ba4
LOCATION:1100 Valley House Dr\, Rohnert Park\, CA 94928\, USA
DESCRIPTION:Thank you for registering to our event! Your tickets are attached to this email. Don't forget to bring them.\n\nWe're looking forward to seeing you there.\n\nHere are the details:\n\nAmerican Barn Painting @ Sally Tomatoes in RP  \nJuly 7\, 2021\, 6:00 – 10:00 PM PDT\nSally Tomatoes in Rohnert Park\, 1100 Valley House Dr\, Rohnert Park\, CA 94928\, USA
X-ALT-DESC;FMTTYPE=text/html:Thank you for registering to our event! Your tickets are attached to this email. Don't forget to bring them.\n\nWe're looking forward to seeing you there.\n\nHere are the details:<br>American Barn Painting @ Sally Tomatoes in RP  \nJuly 7\, 2021\, 6:00 – 10:00 PM PDT\nSally Tomatoes in Rohnert Park\, 1100 Valley House Dr\, Rohnert Park\, CA 94928\, USA
END:VEVENT
END:VCALENDAR
