BEGIN:VCALENDAR
CALSCALE:GREGORIAN
BEGIN:VEVENT
DTSTAMP:20250112T004846Z
DTSTART:20230118T010000Z
DTEND:20230118T030000Z
SUMMARY:Private Painting Party for Carrie Dove Catering and Events
UID:5231935d-3f06-44d2-a308-cb24ffcd75af
LOCATION:521 Broadway a\, Sonoma\, CA 95476
DESCRIPTION:Thank you for registering to our event! Your tickets are attached to this email. Don't forget to bring them.\n\nWe're looking forward to seeing you there.\n\nHere are the details:\n\nPrivate Painting Party for Carrie Dove Catering and Events\nJanuary 17\, 2023\, 5:00 – 7:00 PM\nBump Wines\, 521 Broadway a\, Sonoma\, CA 95476
X-ALT-DESC;FMTTYPE=text/html:Thank you for registering to our event! Your tickets are attached to this email. Don't forget to bring them.\n\nWe're looking forward to seeing you there.\n\nHere are the details:<br>Private Painting Party for Carrie Dove Catering and Events\nJanuary 17\, 2023\, 5:00 – 7:00 PM\nBump Wines\, 521 Broadway a\, Sonoma\, CA 95476
END:VEVENT
END:VCALENDAR
