BEGIN:VCALENDAR
CALSCALE:GREGORIAN
BEGIN:VEVENT
DTSTAMP:20250112T004847Z
DTSTART:20230309T233000Z
DTEND:20230310T013000Z
SUMMARY:Private Event in Kenwood
UID:52a2e493-d558-42fe-a94d-fb4eb257df1f
LOCATION:8790 CA-12\, Kenwood\, CA 95452\, USA
DESCRIPTION:Thank you for registering to our painting event! Your name is on our list\, so don't forget your name\, lol. (Remember to bring your ID if its a drinking establishment) \n\nWe're looking forward to seeing you there.\n\nHere are the details:\nHere are the details:\n\nPrivate Event in Kenwood\nMarch 9\, 2023\, 3:30 – 5:30 PM\nCasa Bella Kenwood\, 8790 CA-12\, Kenwood\, CA 95452\, USA
X-ALT-DESC;FMTTYPE=text/html:Thank you for registering to our painting event! Your name is on our list\, so don't forget your name\, lol. (Remember to bring your ID if its a drinking establishment) \n\nWe're looking forward to seeing you there.\n\nHere are the details:\nHere are the details:<br>Private Event in Kenwood\nMarch 9\, 2023\, 3:30 – 5:30 PM\nCasa Bella Kenwood\, 8790 CA-12\, Kenwood\, CA 95452\, USA
END:VEVENT
END:VCALENDAR
