BEGIN:VCALENDAR
CALSCALE:GREGORIAN
BEGIN:VEVENT
DTSTAMP:20250112T005116Z
DTSTART:20220818T010000Z
DTEND:20220818T033000Z
SUMMARY:PAINT YOUR PET @ Sally Tomatoes -Sold Out
UID:53016df5-992c-4077-b2fe-d6c410f03e74
LOCATION:1100 Valley House Dr\, Rohnert Park\, CA 94928\, USA
DESCRIPTION:Thank you for registering to our painting event! Your name is on our list\, so don't forget your name\, lol. (Remember to bring your ID if its a drinking establishment) \n\nWe're looking forward to seeing you there.\n\nHere are the details:\nHere are the details:\n\nPAINT YOUR PET @ Sally Tomatoes -Sold Out\nAugust 17\, 2022\, 6:00 – 8:30 PM\nSally Tomatoes in Rohnert Park\, 1100 Valley House Dr\, Rohnert Park\, CA 94928\, USA
X-ALT-DESC;FMTTYPE=text/html:Thank you for registering to our painting event! Your name is on our list\, so don't forget your name\, lol. (Remember to bring your ID if its a drinking establishment) \n\nWe're looking forward to seeing you there.\n\nHere are the details:\nHere are the details:<br>PAINT YOUR PET @ Sally Tomatoes -Sold Out\nAugust 17\, 2022\, 6:00 – 8:30 PM\nSally Tomatoes in Rohnert Park\, 1100 Valley House Dr\, Rohnert Park\, CA 94928\, USA
END:VEVENT
END:VCALENDAR
