BEGIN:VCALENDAR
CALSCALE:GREGORIAN
BEGIN:VEVENT
DTSTAMP:20250112T005015Z
DTSTART:20210711T230000Z
DTEND:20210712T010000Z
SUMMARY: Wine Painting at Seamus Wines in Kenwood
UID:5312919f-a09c-45bb-b5ae-df29a012d1e0
LOCATION:8910 Sonoma Hwy #7\, Kenwood\, CA 95452\, USA
DESCRIPTION:Thank you for registering to our event! Your tickets are attached to this email. Don't forget to bring them.\n\nWe're looking forward to seeing you there.\n\nHere are the details:\n\nWine Painting at Seamus Wines in Kenwood\nJuly 11\, 2021\, 4:00 – 6:00 PM\nKenwood\, 8910 Sonoma Hwy #7\, Kenwood\, CA 95452\, USA
X-ALT-DESC;FMTTYPE=text/html:Thank you for registering to our event! Your tickets are attached to this email. Don't forget to bring them.\n\nWe're looking forward to seeing you there.\n\nHere are the details:<br>Wine Painting at Seamus Wines in Kenwood\nJuly 11\, 2021\, 4:00 – 6:00 PM\nKenwood\, 8910 Sonoma Hwy #7\, Kenwood\, CA 95452\, USA
END:VEVENT
END:VCALENDAR
