BEGIN:VCALENDAR
CALSCALE:GREGORIAN
BEGIN:VEVENT
DTSTAMP:20250112T005024Z
DTSTART:20230217T020000Z
DTEND:20230217T040000Z
SUMMARY:Painting @Zaina's Bellini Cafe 2/16/23 
UID:5373d4c7-73e3-45ee-adc3-04aeebd18984
LOCATION:7981 Old Redwood Hwy Suite A\, Cotati\, CA 94931\, USA
DESCRIPTION:Thank you for registering to our painting event! Your name is on our list\, so don't forget your name\, lol. (Remember to bring your ID if its a drinking establishment) \n\nWe're looking forward to seeing you there.\n\nHere are the details:\nHere are the details:\n\nPainting @Zaina's Bellini Cafe 2/16/23 \nFebruary 16\, 2023\, 6:00 – 8:00 PM\nCotati\, 7981 Old Redwood Hwy Suite A\, Cotati\, CA 94931\, USA
X-ALT-DESC;FMTTYPE=text/html:Thank you for registering to our painting event! Your name is on our list\, so don't forget your name\, lol. (Remember to bring your ID if its a drinking establishment) \n\nWe're looking forward to seeing you there.\n\nHere are the details:\nHere are the details:<br>Painting @Zaina's Bellini Cafe 2/16/23 \nFebruary 16\, 2023\, 6:00 – 8:00 PM\nCotati\, 7981 Old Redwood Hwy Suite A\, Cotati\, CA 94931\, USA
END:VEVENT
END:VCALENDAR
