BEGIN:VCALENDAR
CALSCALE:GREGORIAN
BEGIN:VEVENT
DTSTAMP:20250112T004743Z
DTSTART:20230224T023000Z
DTEND:20230224T050000Z
SUMMARY:Sonoma County Painting @ Tonti Family Wines
UID:5b0725fd-4782-4a1f-bc33-ff93167d2336
LOCATION:9086 Windsor Rd\, Windsor\, CA 95492\, USA
DESCRIPTION:Thank you for registering to our painting event! Your name is on our list\, so don't forget your name\, lol. (Remember to bring your ID if its a drinking establishment) \n\nWe're looking forward to seeing you there.\n\nHere are the details:\nHere are the details:\n\nSonoma County Painting @ Tonti Family Wines\nFebruary 23\, 2023\, 6:30 – 9:00 PM\nWindsor\, 9086 Windsor Rd\, Windsor\, CA 95492\, USA
X-ALT-DESC;FMTTYPE=text/html:Thank you for registering to our painting event! Your name is on our list\, so don't forget your name\, lol. (Remember to bring your ID if its a drinking establishment) \n\nWe're looking forward to seeing you there.\n\nHere are the details:\nHere are the details:<br>Sonoma County Painting @ Tonti Family Wines\nFebruary 23\, 2023\, 6:30 – 9:00 PM\nWindsor\, 9086 Windsor Rd\, Windsor\, CA 95492\, USA
END:VEVENT
END:VCALENDAR
