BEGIN:VCALENDAR
CALSCALE:GREGORIAN
BEGIN:VEVENT
DTSTAMP:20250112T005112Z
DTSTART:20220306T003000Z
DTEND:20220306T023000Z
SUMMARY:Birthday Painting Party in Sonoma
UID:5ba50bb3-bde0-49c7-9774-7f55574a0336
LOCATION:Sonoma\, CA 95476\, USA
DESCRIPTION:Thank you for registering to our event! Your tickets are attached to this email. Don't forget to bring them.\n\nWe're looking forward to seeing you there.\n\nHere are the details:\n\nBirthday Painting Party in Sonoma\nMarch 5\, 2022\, 4:30 – 6:30 PM\nSonoma\, Sonoma\, CA 95476\, USA
X-ALT-DESC;FMTTYPE=text/html:Thank you for registering to our event! Your tickets are attached to this email. Don't forget to bring them.\n\nWe're looking forward to seeing you there.\n\nHere are the details:<br>Birthday Painting Party in Sonoma\nMarch 5\, 2022\, 4:30 – 6:30 PM\nSonoma\, Sonoma\, CA 95476\, USA
END:VEVENT
END:VCALENDAR
