BEGIN:VCALENDAR
CALSCALE:GREGORIAN
BEGIN:VEVENT
DTSTAMP:20250112T004928Z
DTSTART:20231214T020022Z
DTEND:20231214T040022Z
SUMMARY:Jennifers Private Holiday Painting Party 
UID:5db548ea-435d-416a-969c-939e7c797b40
LOCATION:16 Brookside Ct\, Novato\, CA 94947\, USA
DESCRIPTION:Thank you for registering to our painting event! Your name is on our list\, so don't forget your name\, lol. (Remember to bring your ID if its a drinking establishment) \n\nWe're looking forward to seeing you there.\n\nHere are the details:\nHere are the details:\n\nJennifers Private Holiday Painting Party \nDecember 13\, 2023\, 6:00 – 8:00 PM\nJennifers Pool House\, 16 Brookside Ct\, Novato\, CA 94947\, USA
X-ALT-DESC;FMTTYPE=text/html:Thank you for registering to our painting event! Your name is on our list\, so don't forget your name\, lol. (Remember to bring your ID if its a drinking establishment) \n\nWe're looking forward to seeing you there.\n\nHere are the details:\nHere are the details:<br>Jennifers Private Holiday Painting Party \nDecember 13\, 2023\, 6:00 – 8:00 PM\nJennifers Pool House\, 16 Brookside Ct\, Novato\, CA 94947\, USA
END:VEVENT
END:VCALENDAR
