BEGIN:VCALENDAR
CALSCALE:GREGORIAN
BEGIN:VEVENT
DTSTAMP:20250112T005028Z
DTSTART:20221217T020000Z
DTEND:20221217T040000Z
SUMMARY:Holiday Painting Party for Petaluma Health Center 
UID:5f96a82a-3ac2-4399-96bf-ac16a6056542
LOCATION:7384 Commerce Blvd\, Cotati\, CA 94931\, USA
DESCRIPTION:Thank you for registering to our event! Your tickets are attached to this email. Don't forget to bring them.\n\nWe're looking forward to seeing you there.\n\nHere are the details:\n\nHoliday Painting Party for Petaluma Health Center \nDecember 16\, 2022\, 6:00 – 8:00 PM\nMi Pueblo\, 7384 Commerce Blvd\, Cotati\, CA 94931\, USA
X-ALT-DESC;FMTTYPE=text/html:Thank you for registering to our event! Your tickets are attached to this email. Don't forget to bring them.\n\nWe're looking forward to seeing you there.\n\nHere are the details:<br>Holiday Painting Party for Petaluma Health Center \nDecember 16\, 2022\, 6:00 – 8:00 PM\nMi Pueblo\, 7384 Commerce Blvd\, Cotati\, CA 94931\, USA
END:VEVENT
END:VCALENDAR
