BEGIN:VCALENDAR
CALSCALE:GREGORIAN
BEGIN:VEVENT
DTSTAMP:20250112T005007Z
DTSTART:20220520T013000Z
DTEND:20220521T033000Z
SUMMARY:Painting Event at Embassy Suites San Rafael
UID:65d27eca-16e4-42a0-b9a2-c1e377b7a3d2
LOCATION:101 McInnis Pkwy\, San Rafael\, CA 94903\, USA
DESCRIPTION:Thank you for registering to our event! Your tickets are attached to this email. Don't forget to bring them.\n\nWe're looking forward to seeing you there.\n\nHere are the details:\n\nPainting Event at Embassy Suites San Rafael\nMay 19\, 2022 at 6:30 PM – May 20\, 2022 at 8:30 PM\nSan Rafael\, 101 McInnis Pkwy\, San Rafael\, CA 94903\, USA
X-ALT-DESC;FMTTYPE=text/html:Thank you for registering to our event! Your tickets are attached to this email. Don't forget to bring them.\n\nWe're looking forward to seeing you there.\n\nHere are the details:<br>Painting Event at Embassy Suites San Rafael\nMay 19\, 2022 at 6:30 PM – May 20\, 2022 at 8:30 PM\nSan Rafael\, 101 McInnis Pkwy\, San Rafael\, CA 94903\, USA
END:VEVENT
END:VCALENDAR
