BEGIN:VCALENDAR
CALSCALE:GREGORIAN
BEGIN:VEVENT
DTSTAMP:20250112T004951Z
DTSTART:20241213T020000Z
DTEND:20241213T040000Z
SUMMARY:Winter Wine Stave @Tasting Notes 
UID:670cdf8d-9272-4f96-ab8b-00a65fba5ad8
LOCATION:9086 Windsor Rd\, Windsor\, CA 95492\, USA
DESCRIPTION:Thank you for registering to our painting event! Your name is on our list\, so don't forget your name\, lol. (Remember to bring your ID if its a drinking establishment) \n\nWe're looking forward to seeing you there.\n\nHere are the details:\nHere are the details:\n\nWinter Wine Stave @Tasting Notes \nDecember 12\, 2024\, 6:00 – 8:00 PM\nWindsor\, 9086 Windsor Rd\, Windsor\, CA 95492\, USA
X-ALT-DESC;FMTTYPE=text/html:Thank you for registering to our painting event! Your name is on our list\, so don't forget your name\, lol. (Remember to bring your ID if its a drinking establishment) \n\nWe're looking forward to seeing you there.\n\nHere are the details:\nHere are the details:<br>Winter Wine Stave @Tasting Notes \nDecember 12\, 2024\, 6:00 – 8:00 PM\nWindsor\, 9086 Windsor Rd\, Windsor\, CA 95492\, USA
END:VEVENT
END:VCALENDAR
